Workbook

Sheet Koko Suomi
E2: Helmikuu | F2: 2026
B3: Jäsenmäärä | E3: =SUM('2025-26 jäsenet'!P18) -> 15560 | F3: kpl | H3: muutos kauden alusta | I3: =SUM('2025-26 jäsenet'!Q18) -> -67 | J3: kpl
B5: Uusia jäseniä, kauden alusta | E5: =SUM('2025-26 jäsenet'!S18) -> 629 | F5: kpl
B6: Poistuneita jäseniä, kauden alusta | E6: =SUM('2025-26 jäsenet'!T18) -> 696 | F6: kpl
B7: Uusia jäseniä ottaneita klubeja | E7: 22 | F7: kpl | H7: muutos kauden alusta | I7: =SUM('Uusia jäs'!P17) -> 318 | J7: kpl
B9: Klubeja, joissa jäseniä | E9: =SUM(Klubeja!S17) -> 716 | F9: kpl | H9: muutos kauden alusta | I9: =SUM(Klubeja!Q17) -> -12 | J9: kpl
C11: 45838 | D11: osuus | E11: Helmikuu | F11: 2026 | G11: osuus
B12: Alle 18 jäs klubeja | C12: 243 | D12: =SUM(C12/C15) -> 0.3370319 | E12: =SUM(Kokojakauma!F53) -> 256 | F12: kpl | G12: =SUM(Kokojakauma!E53) -> 0.3575419 | H12: muutos kauden alusta | I12: =SUM(Kokojakauma!R46) -> 13 | J12: kpl
B13: 18-25 jäs klubeja | C13: 269 | D13: =SUM(C13/C15) -> 0.37309293 | E13: =SUM(Kokojakauma!F54) -> 235 | F13: kpl | G13: =SUM(Kokojakauma!E54) -> 0.32821229 | H13: muutos kauden alusta | I13: =SUM(Kokojakauma!R47) -> -34 | J13: kpl
B14: yli 25 jäs klubeja | C14: 209 | D14: =SUM(C14/C15) -> 0.28987517 | E14: =SUM(Kokojakauma!F55) -> 225 | F14: kpl | G14: =SUM(Kokojakauma!E55) -> 0.31424581 | H14: muutos kauden alusta | I14: =SUM(Kokojakauma!R48) -> 16 | J14: kpl
B15: yhteensä | C15: =SUM(C12:C14) -> 721 | E15: =SUM(E12:E14) -> 716

Sheet 2025-26 jäsenet
B1: Jäsenmäärän seuranta piireittäin, kausi 2025-2026
C2: 45839
B3: Piiri | D3: 7 | E3: 8 | F3: 9 | G3: 10 | H3: 11 | I3: 12 | J3: 1 | K3: 2 | L3: 3 | M3: 4 | N3: 5 | O3: 6 | P3: Jäseniä nyt | Q3: Muutos | S3: uudet | T3: poistuneet | V3: Jäsenmäärän muutos | W3: Uusien jäsenten määrä suhteessa kokonaismäärään
B4: A | C4: 1676 | D4: -4 | E4: -7 | F4: -23 | G4: 2 | H4: 5 | I4: -9 | J4: 5 | K4: 2 | P4: =SUM(C4:O4) -> 1647 | Q4: =SUM(P4-C4) -> -29 | S4: 51 | T4: 80 | V4: =SUM(Q4/P4) -> -0.017607772 | W4: =SUM(S4/P4) -> 0.030965392
B5: B | C5: 778 | D5: 1 | E5: 1 | F5: 3 | G5: 5 | H5: -3 | I5: -6 | J5: 1 | K5: 2 | P5: =SUM(C5:O5) -> 782 | Q5: =SUM(P5-C5) -> 4 | S5: 38 | T5: 34 | V5: =SUM(Q5/P5) -> 0.0051150895 | W5: =SUM(S5/P5) -> 0.04859335
B6: C | C6: 1699 | D6: -1 | E6: 0 | F6: 9 | G6: 8 | H6: -2 | I6: -2 | J6: 2 | K6: -3 | P6: =SUM(C6:O6) -> 1710 | Q6: =SUM(P6-C6) -> 11 | S6: 88 | T6: 77 | V6: =SUM(Q6/P6) -> 0.0064327485 | W6: =SUM(S6/P6) -> 0.051461988
B7: D | C7: 1130 | D7: -4 | E7: -2 | F7: -7 | G7: 2 | H7: 6 | I7: 0 | J7: 5 | K7: -3 | P7: =SUM(C7:O7) -> 1127 | Q7: =SUM(P7-C7) -> -3 | S7: 42 | T7: 45 | V7: =SUM(Q7/P7) -> -0.0026619343 | W7: =SUM(S7/P7) -> 0.037267081
B8: E | C8: 1357 | D8: -3 | E8: -2 | F8: 5 | G8: 10 | H8: -12 | I8: -2 | J8: 6 | K8: 8 | P8: =SUM(C8:O8) -> 1367 | Q8: =SUM(P8-C8) -> 10 | S8: 46 | T8: 36 | V8: =SUM(Q8/P8) -> 0.007315289 | W8: =SUM(S8/P8) -> 0.033650329
B9: F | C9: 1270 | D9: -1 | E9: -2 | F9: 1 | G9: -3 | H9: 4 | I9: -20 | J9: -3 | K9: 1 | P9: =SUM(C9:O9) -> 1247 | Q9: =SUM(P9-C9) -> -23 | S9: 33 | T9: 56 | V9: =SUM(Q9/P9) -> -0.018444266 | W9: =SUM(S9/P9) -> 0.026463512
B10: G | C10: 911 | D10: 1 | E10: -2 | F10: -3 | G10: 3 | H10: -4 | I10: -17 | J10: 1 | K10: 1 | P10: 891 | Q10: =SUM(P10-C10) -> -20 | S10: 26 | T10: 46 | V10: =SUM(Q10/P10) -> -0.022446689 | W10: =SUM(S10/P10) -> 0.029180696
B11: H | C11: 930 | D11: -1 | E11: 0 | F11: 5 | G11: 8 | H11: 5 | I11: -9 | J11: 20 | K11: -2 | P11: =SUM(C11:O11) -> 956 | Q11: =SUM(P11-C11) -> 26 | S11: 67 | T11: 41 | V11: =SUM(Q11/P11) -> 0.027196653 | W11: =SUM(S11/P11) -> 0.070083682
B12: I | C12: 821 | D12: -6 | E12: -4 | F12: 3 | G12: 9 | H12: 1 | I12: 7 | J12: 1 | K12: 1 | P12: =SUM(C12:O12) -> 833 | Q12: =SUM(P12-C12) -> 12 | S12: 39 | T12: 27 | V12: =SUM(Q12/P12) -> 0.014405762 | W12: =SUM(S12/P12) -> 0.046818727
B13: K | C13: 859 | D13: 0 | E13: -2 | F13: 2 | G13: -1 | H13: 4 | I13: -6 | J13: -1 | K13: 0 | P13: =SUM(C13:O13) -> 855 | Q13: =SUM(P13-C13) -> -4 | S13: 31 | T13: 35 | V13: =SUM(Q13/P13) -> -0.0046783626 | W13: =SUM(S13/P13) -> 0.03625731
B14: L | C14: 780 | D14: 0 | E14: -3 | F14: -4 | G14: -2 | H14: -8 | I14: -13 | J14: -8 | K14: 5 | P14: =SUM(C14:O14) -> 747 | Q14: =SUM(P14-C14) -> -33 | S14: 33 | T14: 66 | V14: =SUM(Q14/P14) -> -0.044176707 | W14: =SUM(S14/P14) -> 0.044176707
B15: M | C15: 1248 | D15: -8 | E15: -1 | F15: 1 | G15: 4 | H15: -3 | I15: -8 | J15: 2 | K15: 2 | P15: =SUM(C15:O15) -> 1237 | Q15: =SUM(P15-C15) -> -11 | S15: 39 | T15: 50 | V15: =SUM(Q15/P15) -> -0.0088924818 | W15: =SUM(S15/P15) -> 0.03152789
B16: N | C16: 1313 | D16: -2 | E16: -5 | F16: -6 | G16: 6 | H16: 9 | I16: -3 | J16: 5 | K16: -3 | P16: =SUM(C16:O16) -> 1314 | Q16: =SUM(P16-C16) -> 1 | S16: 43 | T16: 42 | V16: =SUM(Q16/P16) -> 0.00076103501 | W16: =SUM(S16/P16) -> 0.032724505
B17: O | C17: 855 | D17: -2 | E17: 1 | F17: 1 | G17: -3 | H17: -1 | I17: -4 | J17: -2 | K17: 2 | P17: 847 | Q17: =SUM(P17-C17) -> -8 | S17: 53 | T17: 61 | V17: =SUM(Q17/P17) -> -0.0094451004 | W17: =SUM(S17/P17) -> 0.06257379
C18: =SUM(C4:C17) -> 15627 | P18: =SUM(P4:P17) -> 15560 | Q18: =SUM(Q4:Q17) -> -67 | S18: =SUM(S4:S17) -> 629 | T18: =SUM(T4:T17) -> 696 | V18: =SUM(Q18/P18) -> -0.0043059126 | W18: =SUM(S18/P18) -> 0.040424165
D19: =SUM(D4:D17) -> -30 | E19: =SUM(E4:E17) -> -28 | F19: =SUM(F4:F17) -> -13 | G19: =SUM(G4:G17) -> 48 | H19: =SUM(H4:H17) -> 1 | I19: =SUM(I4:I17) -> -92 | J19: =SUM(J4:J17) -> 34 | K19: =SUM(K4:K17) -> 13 | ... O19: =SUM(O4:O17) -> 0
B23: Piiri | C23: uudet | D23: poistuneet | S23: 1
B24: A | C24: =SUM(S4) -> 51 | D24: =SUM(T4) -> 80
B25: B | C25: =SUM(S5) -> 38 | D25: =SUM(T5) -> 34
B26: C | C26: =SUM(S6) -> 88 | D26: =SUM(T6) -> 77
B27: D | C27: =SUM(S7) -> 42 | D27: =SUM(T7) -> 45
B28: E | C28: =SUM(S8) -> 46 | D28: =SUM(T8) -> 36
B29: F | C29: =SUM(S9) -> 33 | D29: =SUM(T9) -> 56
B30: G | C30: =SUM(S10) -> 26 | D30: =SUM(T10) -> 46
B31: H | C31: =SUM(S11) -> 67 | D31: =SUM(T11) -> 41
B32: I | C32: =SUM(S12) -> 39 | D32: =SUM(T12) -> 27
B33: K | C33: =SUM(S13) -> 31 | D33: =SUM(T13) -> 35
B34: L | C34: =SUM(S14) -> 33 | D34: =SUM(T14) -> 66
B35: M | C35: =SUM(S15) -> 39 | D35: =SUM(T15) -> 50
... B37: O | C37: =SUM(S17) -> 53 | D37: =SUM(T17) -> 61

Sheet Uusia jäs
B1: Moniko klubi piirissä on ottanut uusia jäseniä?
B2: Piiri | C2: Klubeja 30.6.2025 | D2: 7 | E2: 8 | F2: 9 | G2: 10 | H2: 11 | I2: 12 | J2: 1 | K2: 2 | L2: 3 | M2: 4 | N2: 5 | O2: 6 | P2: Uusia jäseniä ottaneita | Q2: muutos | R2: Montako % piirin klubeista?
B3: A | C3: 72 | D3: 2 | E3: 3 | F3: 4 | G3: 6 | H3: 6 | I3: 2 | J3: 6 | K3: 2 | P3: =SUM(D3:O3) -> 31 | R3: =SUM(P3/C3) -> 0.43055556
B4: B | C4: 41 | D4: 1 | E4: 2 | F4: 5 | G4: 7 | H4: 2 | I4: 0 | J4: 2 | K4: 1 | P4: =SUM(D4:O4) -> 20 | R4: =SUM(P4/C4) -> 0.48780488
B5: C | C5: 74 | D5: 1 | E5: 2 | F5: 12 | G5: 7 | H5: 11 | I5: 3 | J5: 4 | K5: 1 | P5: =SUM(D5:O5) -> 41 | R5: =SUM(P5/C5) -> 0.55405405
B6: D | C6: 50 | D6: 1 | E6: 1 | F6: 3 | G6: 6 | H6: 5 | I6: 2 | J6: 3 | K6: 0 | P6: =SUM(D6:O6) -> 21 | R6: =SUM(P6/C6) -> 0.42
B7: E | C7: 66 | D7: 1 | E7: 0 | F7: 7 | G7: 7 | H7: 1 | I7: 2 | J7: 5 | K7: 4 | P7: =SUM(D7:O7) -> 27 | R7: =SUM(P7/C7) -> 0.40909091
B8: F | C8: 56 | D8: 1 | E8: 0 | F8: 3 | G8: 3 | H8: 6 | I8: 2 | J8: 3 | K8: 3 | P8: =SUM(D8:O8) -> 21 | R8: =SUM(P8/C8) -> 0.375
B9: G | C9: 48 | D9: 1 | E9: 1 | F9: 4 | G9: 4 | H9: 2 | I9: 1 | J9: 2 | K9: 2 | P9: =SUM(D9:O9) -> 17 | R9: =SUM(P9/C9) -> 0.35416667
B10: H | C10: 39 | D10: 1 | E10: 1 | F10: 3 | G10: 9 | H10: 3 | I10: 2 | J10: 4 | K10: 0 | P10: =SUM(D10:O10) -> 23 | R10: =SUM(P10/C10) -> 0.58974359
B11: I | C11: 44 | D11: 1 | E11: 0 | F11: 3 | G11: 6 | H11: 2 | I11: 5 | J11: 3 | K11: 0 | P11: =SUM(D11:O11) -> 20 | R11: =SUM(P11/C11) -> 0.45454545
B12: K | C12: 37 | D12: 0 | E12: 0 | F12: 3 | G12: 3 | H12: 4 | I12: 1 | J12: 3 | K12: 1 | P12: =SUM(D12:O12) -> 15 | R12: =SUM(P12/C12) -> 0.40540541
B13: L | C13: 34 | D13: 3 | E13: 0 | F13: 0 | G13: 4 | H13: 5 | I13: 1 | J13: 0 | K13: 2 | P13: =SUM(D13:O13) -> 15 | R13: =SUM(P13/C13) -> 0.44117647
B14: M | C14: 54 | D14: 2 | E14: 1 | F14: 5 | G14: 6 | H14: 2 | I14: 0 | J14: 1 | K14: 4 | P14: =SUM(D14:O14) -> 21 | R14: =SUM(P14/C14) -> 0.38888889
... B16: O | C16: 49 | D16: 1 | E16: 2 | F16: 4 | G16: 3 | H16: 3 | I16: 4 | J16: 2 | K16: 2 | P16: =SUM(D16:O16) -> 21 | R16: =SUM(P16/C16) -> 0.42857143
B17: lkm | C17: =SUM(C3:C16) -> 730 | D17: =SUM(D3:D16) -> 16 | E17: =SUM(E3:E16) -> 14 | F17: =SUM(F3:F16) -> 59 | G17: =SUM(G3:G16) -> 78 | H17: =SUM(H3:H16) -> 58 | I17: =SUM(I3:I16) -> 28 | J17: =SUM(J3:J16) -> 43 | ... O17: =SUM(O3:O16) -> 0 | P17: =SUM(D17:O17) -> 318 | Q17: 0 | R17: =SUM(P17/C17) -> 0.43561644
B20: Piiri | C20: Klubeja
B21: A | C21: =SUM(P3) -> 31
B22: B | C22: =SUM(P4) -> 20
B23: C | C23: =SUM(P5) -> 41
B24: D | C24: =SUM(P6) -> 21
B25: E | C25: =SUM(P7) -> 27
B26: F | C26: =SUM(P8) -> 21
B27: G | C27: =SUM(P9) -> 17
B28: H | C28: =SUM(P10) -> 23
B29: I | C29: =SUM(P11) -> 20
B30: K | C30: =SUM(P12) -> 15
B31: L | C31: =SUM(P13) -> 15
B32: M | C32: =SUM(P14) -> 21
... B34: O | C34: =SUM(P16) -> 21

Sheet Jäsenmäärä kuva
B3: Piiri | C3: Jäseniä | D3: Osuus
B4: A | C4: =SUM('2025-26 jäsenet'!P4) -> 1647 | D4: =SUM(C4/C18) -> 0.10584833
B5: B | C5: =SUM('2025-26 jäsenet'!P5) -> 782 | D5: =SUM(C5/C18) -> 0.050257069
B6: C | C6: =SUM('2025-26 jäsenet'!P6) -> 1710 | D6: =SUM(C6/C18) -> 0.10989717
B7: D | C7: =SUM('2025-26 jäsenet'!P7) -> 1127 | D7: =SUM(C7/C18) -> 0.072429306
B8: E | C8: =SUM('2025-26 jäsenet'!P8) -> 1367 | D8: =SUM(C8/C18) -> 0.08785347
B9: F | C9: =SUM('2025-26 jäsenet'!P9) -> 1247 | D9: =SUM(C9/C18) -> 0.080141388
B10: G | C10: =SUM('2025-26 jäsenet'!P10) -> 891 | D10: =SUM(C10/C18) -> 0.057262211
B11: H | C11: =SUM('2025-26 jäsenet'!P11) -> 956 | D11: =SUM(C11/C18) -> 0.061439589
B12: I | C12: =SUM('2025-26 jäsenet'!P12) -> 833 | D12: =SUM(C12/C18) -> 0.053534704
B13: K | C13: =SUM('2025-26 jäsenet'!P13) -> 855 | D13: =SUM(C13/C18) -> 0.054948586
B14: L | C14: =SUM('2025-26 jäsenet'!P14) -> 747 | D14: =SUM(C14/C18) -> 0.048007712
B15: M | C15: =SUM('2025-26 jäsenet'!P15) -> 1237 | D15: =SUM(C15/C18) -> 0.079498715
B16: N | C16: =SUM('2025-26 jäsenet'!P16) -> 1314 | D16: =SUM(C16/C18) -> 0.084447301
B17: O | C17: =SUM('2025-26 jäsenet'!P17) -> 847 | D17: =SUM(C17/C18) -> 0.054434447
C18: =SUM(C4:C17) -> 15560 | D18: =SUM(D4:D17) -> 1

Sheet Klubeja
B2: Piiri | C2: Klubeja 30.6.2025 | D2: 7 | E2: 8 | F2: 9 | G2: 10 | H2: 11 | I2: 12 | J2: 1 | K2: 2 | L2: 3 | M2: 4 | N2: 5 | O2: 6 | P2: Klubeja nyt | Q2: muutos kauden alusta | R2: Klubeja, joissa 0 jäsentä | S2: Klubeja, joissa jäseniä
B3: A | C3: 72 | D3: 0 | E3: 0 | F3: -1 | G3: -2 | H3: 0 | I3: 0 | J3: 0 | K3: 0 | P3: 69 | Q3: =SUM(P3-C3) -> -3 | R3: 0 | S3: =SUM(P3-R3) -> 69
B4: B | C4: 41 | D4: 0 | E4: 0 | F4: 0 | G4: 0 | H4: 0 | I4: 0 | J4: 0 | K4: 0 | P4: =SUM(C4:N4) -> 41 | Q4: =SUM(P4-C4) -> 0 | R4: 0 | S4: =SUM(P4-R4) -> 41
B5: C | C5: 74 | D5: 0 | E5: 0 | F5: 0 | G5: -1 | H5: 0 | I5: 0 | J5: 0 | K5: 0 | P5: 73 | Q5: =SUM(P5-C5) -> -1 | R5: 0 | S5: =SUM(P5-R5) -> 73
B6: D | C6: 50 | D6: 0 | E6: 0 | F6: 0 | G6: -1 | H6: 0 | I6: 0 | J6: 0 | K6: 0 | P6: =SUM(C6:N6) -> 49 | Q6: =SUM(P6-C6) -> -1 | R6: 0 | S6: =SUM(P6-R6) -> 49
B7: E | C7: 66 | D7: 0 | E7: 0 | F7: 0 | G7: -1 | H7: 0 | I7: 0 | J7: 0 | K7: 0 | P7: =SUM(C7:N7) -> 65 | Q7: =SUM(P7-C7) -> -1 | R7: 0 | S7: =SUM(P7-R7) -> 65
B8: F | C8: 56 | D8: 0 | E8: 0 | F8: 0 | G8: -1 | H8: 0 | I8: -1 | J8: 0 | K8: 0 | P8: =SUM(C8:N8) -> 54 | Q8: =SUM(P8-C8) -> -2 | R8: 1 | S8: =SUM(P8-R8) -> 53
B9: G | C9: 48 | D9: 0 | E9: 0 | F9: 0 | G9: -1 | H9: 0 | I9: 0 | J9: 0 | K9: 0 | P9: 47 | Q9: =SUM(P9-C9) -> -1 | R9: 0 | S9: =SUM(P9-R9) -> 47
B10: H | C10: 39 | D10: 0 | E10: 0 | F10: 0 | G10: 0 | H10: 0 | I10: 0 | J10: 0 | K10: 0 | P10: =SUM(C10:N10) -> 39 | Q10: =SUM(P10-C10) -> 0 | R10: 0 | S10: =SUM(P10-R10) -> 39
B11: I | C11: 44 | D11: 0 | E11: 0 | F11: 0 | G11: 0 | H11: 0 | I11: 0 | J11: 0 | K11: 0 | P11: =SUM(C11:N11) -> 44 | Q11: =SUM(P11-C11) -> 0 | R11: 0 | S11: =SUM(P11-R11) -> 44
B12: K | C12: 37 | D12: 0 | E12: 0 | F12: 0 | G12: 0 | H12: 0 | I12: 0 | J12: 0 | K12: 0 | P12: =SUM(C12:N12) -> 37 | Q12: =SUM(P12-C12) -> 0 | R12: 0 | S12: =SUM(P12-R12) -> 37
B13: L | C13: 34 | D13: 0 | E13: 0 | F13: 0 | G13: -1 | H13: 0 | I13: 0 | J13: 0 | K13: 0 | P13: =SUM(C13:N13) -> 33 | Q13: =SUM(P13-C13) -> -1 | R13: 1 | S13: =SUM(P13-R13) -> 32
B14: M | C14: 54 | D14: 0 | E14: 0 | F14: 0 | G14: 0 | H14: 0 | I14: 0 | J14: 0 | K14: 0 | P14: =SUM(C14:N14) -> 54 | Q14: =SUM(P14-C14) -> 0 | R14: 0 | S14: =SUM(P14-R14) -> 54
B15: N | C15: 66 | D15: 0 | E15: 0 | F15: 0 | G15: 0 | H15: 0 | I15: 0 | J15: 0 | K15: 0 | P15: =SUM(C15:N15) -> 66 | Q15: =SUM(P15-C15) -> 0 | R15: 0 | S15: =SUM(P15-R15) -> 66
B16: O | C16: 49 | D16: 0 | E16: 0 | F16: -1 | G16: -1 | H16: 0 | I16: 0 | J16: 0 | K16: 0 | P16: =SUM(C16:N16) -> 47 | Q16: =SUM(P16-C16) -> -2 | R16: 0 | S16: =SUM(P16-R16) -> 47
B17: lkm | C17: =SUM(C3:C16) -> 730 | D17: =SUM(D3:D16) -> 0 | E17: =G9 -> -1 | F17: =SUM(F3:F16) -> -2 | G17: =SUM(G3:G16) -> -9 | H17: =SUM(H3:H16) -> 0 | I17: =SUM(I3:I16) -> -1 | J17: =SUM(J3:J16) -> 0 | K17: =SUM(K3:K16) -> 0 | L17: =SUM(L3:L16) -> 0 | M17: =SUM(M3:M16) -> 0 | N17: =SUM(N3:N16) -> 0 | P17: =SUM(P3:P16) -> 718 | Q17: =SUM(P17-C17) -> -12 | R17: =SUM(R3:R16) -> 2 | S17: =SUM(P17-R17) -> 716
B20: Piiri | C20: Klubeja | D20: Jäseniä
B21: A | C21: =SUM(P3) -> 69 | D21: =SUM('2025-26 jäsenet'!P4) -> 1647
B22: B | C22: =SUM(P4) -> 41 | D22: =SUM('2025-26 jäsenet'!P5) -> 782
B23: C | C23: =SUM(P5) -> 73 | D23: =SUM('2025-26 jäsenet'!P6) -> 1710
B24: D | C24: =SUM(P6) -> 49 | D24: =SUM('2025-26 jäsenet'!P7) -> 1127
B25: E | C25: =SUM(P7) -> 65 | D25: =SUM('2025-26 jäsenet'!P8) -> 1367
B26: F | C26: =SUM(P8) -> 54 | D26: =SUM('2025-26 jäsenet'!P9) -> 1247
B27: G | C27: =SUM(P9) -> 47 | D27: =SUM('2025-26 jäsenet'!P10) -> 891
B28: H | C28: =SUM(P10) -> 39 | D28: =SUM('2025-26 jäsenet'!P11) -> 956
B29: I | C29: =SUM(P11) -> 44 | D29: =SUM('2025-26 jäsenet'!P12) -> 833
B30: K | C30: =SUM(P12) -> 37 | D30: =SUM('2025-26 jäsenet'!P13) -> 855
B31: L | C31: =SUM(P13) -> 33 | D31: =SUM('2025-26 jäsenet'!P14) -> 747
B32: M | C32: =SUM(P14) -> 54 | D32: =SUM('2025-26 jäsenet'!P15) -> 1237
... B34: O | C34: =SUM(P16) -> 47 | D34: =SUM('2025-26 jäsenet'!P17) -> 847

Sheet Kokojakauma
B1: Klubien koon seuranta piireittäin, kausi 2025-2026
C2: 45838
B3: Piiri | E3: 7 | F3: 8 | G3: 9 | H3: 10 | I3: 11 | J3: 12 | K3: 1 | L3: 2 | M3: 3 | N3: 4 | O3: 5 | P3: 6 | Q3: Tilanne nyt | R3: Muutos | T3: Piiri | U3: Klubin koko | V3: Klubeja kpl
B4: A | C4: 18 | D4: alle 18 jäs | E4: 0 | F4: 1 | G4: -1 | H4: -1 | I4: -2 | J4: 1 | K4: 0 | L4: 0 | Q4: =SUM(C4:P4) -> 16 | R4: =SUM(Q4-C4) -> -2 | T4: A | U4: alle 18 jäs | V4: =SUM(Q4) -> 16
C5: 21 | D5: 18-25 jäs | E5: 0 | F5: -1 | G5: 0 | H5: 1 | I5: 1 | J5: -1 | K5: 1 | L5: 0 | Q5: =SUM(C5:P5) -> 22 | R5: =SUM(Q5-C5) -> 1 | U5: 18-25 jäs | V5: =SUM(Q5) -> 22
C6: 31 | D6: yli 25 jäs | E6: 0 | F6: 0 | G6: 0 | H6: 0 | I6: 1 | J6: 0 | K6: -1 | L6: 0 | Q6: =SUM(C6:P6) -> 31 | R6: =SUM(Q6-C6) -> 0 | U6: yli 25 jäs | V6: =SUM(Q6) -> 31
B7: B | C7: 18 | D7: alle 18 jäs | E7: 0 | F7: 0 | G7: 2 | H7: 0 | I7: 0 | J7: 0 | K7: 0 | L7: 0 | Q7: =SUM(C7:P7) -> 20 | R7: =SUM(Q7-C7) -> 2 | T7: B | U7: alle 18 jäs | V7: =SUM(Q7) -> 20
C8: 14 | D8: 18-25 jäs | E8: 0 | F8: 1 | G8: -3 | H8: 0 | I8: 0 | J8: 0 | K8: 0 | L8: 0 | Q8: =SUM(C8:P8) -> 12 | R8: =SUM(Q8-C8) -> -2 | U8: 18-25 jäs | V8: =SUM(Q8) -> 12
C9: 9 | D9: yli 25 jäs | E9: 0 | F9: -1 | G9: 1 | H9: 0 | I9: 0 | J9: 0 | K9: 0 | L9: 0 | Q9: =SUM(C9:P9) -> 9 | R9: =SUM(Q9-C9) -> 0 | U9: yli 25 jäs | V9: =SUM(Q9) -> 9
B10: C | C10: 18 | D10: alle 18 jäs | E10: 0 | F10: 0 | G10: 0 | H10: 1 | I10: -1 | J10: 1 | K10: 0 | L10: 0 | Q10: =SUM(C10:P10) -> 19 | R10: =SUM(Q10-C10) -> 1 | T10: C | U10: alle 18 jäs | V10: =SUM(Q10) -> 19
C11: 29 | D11: 18-25 jäs | E11: 0 | F11: 0 | G11: 0 | H11: -2 | I11: 0 | J11: -3 | K11: 0 | L11: 0 | Q11: =SUM(C11:P11) -> 24 | R11: =SUM(Q11-C11) -> -5 | U11: 18-25 jäs | V11: =SUM(Q11) -> 24
C12: 26 | D12: yli 25 jäs | E12: 0 | F12: 0 | G12: 0 | H12: 1 | I12: 1 | J12: 2 | K12: 0 | L12: 0 | Q12: =SUM(C12:P12) -> 30 | R12: =SUM(Q12-C12) -> 4 | U12: yli 25 jäs | V12: =SUM(Q12) -> 30
B13: D | C13: 14 | D13: alle 18 jäs | E13: 1 | F13: 0 | G13: 0 | H13: 0 | I13: 0 | J13: 0 | K13: 0 | L13: 0 | Q13: =SUM(C13:P13) -> 15 | R13: =SUM(Q13-C13) -> 1 | T13: D | U13: alle 18 jäs | V13: =SUM(Q13) -> 15
C14: 20 | D14: 18-25 jäs | E14: 0 | F14: 0 | G14: 0 | H14: -2 | I14: 0 | J14: 0 | K14: -1 | L14: 0 | Q14: =SUM(C14:P14) -> 17 | R14: =SUM(Q14-C14) -> -3 | U14: 18-25 jäs | V14: =SUM(Q14) -> 17
C15: 15 | D15: yli 25 jäs | E15: -1 | F15: 0 | G15: 0 | H15: 2 | I15: 0 | J15: 0 | K15: 1 | L15: 0 | Q15: =SUM(C15:P15) -> 17 | R15: =SUM(Q15-C15) -> 2 | U15: yli 25 jäs | V15: =SUM(Q15) -> 17
B16: E | C16: 22 | D16: alle 18 jäs | E16: 0 | F16: 0 | G16: 0 | H16: 1 | I16: 1 | J16: 0 | K16: 0 | L16: 0 | Q16: =SUM(C16:P16) -> 24 | R16: =SUM(Q16-C16) -> 2 | T16: E | U16: alle 18 jäs | V16: =SUM(Q16) -> 24
C17: 25 | D17: 18-25 jäs | E17: 0 | F17: 0 | G17: 1 | H17: -2 | I17: -1 | J17: 0 | K17: 0 | L17: 0 | Q17: =SUM(C17:P17) -> 23 | R17: =SUM(Q17-C17) -> -2 | U17: 18-25 jäs | V17: =SUM(Q17) -> 23
C18: 18 | D18: yli 25 jäs | E18: 0 | F18: 0 | G18: -1 | H18: 1 | I18: 0 | J18: 0 | K18: 0 | L18: 0 | Q18: =SUM(C18:P18) -> 18 | R18: =SUM(Q18-C18) -> 0 | U18: yli 25 jäs | V18: =SUM(Q18) -> 18
B19: F | C19: 11 | D19: alle 18 jäs | E19: 0 | F19: 0 | G19: 1 | H19: 2 | I19: 1 | J19: -1 | K19: 2 | L19: 0 | Q19: =SUM(C19:P19) -> 16 | R19: =SUM(Q19-C19) -> 5 | T19: F | U19: alle 18 jäs | V19: =SUM(Q19) -> 16
C20: 27 | D20: 18-25 jäs | E20: 0 | F20: 0 | G20: -1 | H20: -2 | I20: -2 | J20: 0 | K20: -2 | L20: -1 | Q20: =SUM(C20:P20) -> 19 | R20: =SUM(Q20-C20) -> -8 | U20: 18-25 jäs | V20: =SUM(Q20) -> 19
C21: 17 | D21: yli 25 jäs | E21: 0 | F21: 0 | G21: 0 | H21: 0 | I21: 1 | J21: 0 | K21: 0 | L21: 1 | Q21: =SUM(C21:P21) -> 19 | R21: =SUM(Q21-C21) -> 2 | U21: yli 25 jäs | V21: =SUM(Q21) -> 19
B22: G | C22: 20 | D22: alle 18 jäs | E22: 0 | F22: 0 | G22: 2 | H22: -4 | I22: 0 | J22: 0 | K22: 1 | L22: 0 | Q22: =SUM(C22:P22) -> 19 | R22: =SUM(Q22-C22) -> -1 | T22: G | U22: alle 18 jäs | V22: =SUM(Q22) -> 19
C23: 19 | D23: 18-25 jäs | E23: 0 | F23: 0 | G23: -2 | H23: 4 | I23: -1 | J23: -2 | K23: -1 | L23: 0 | Q23: =SUM(C23:P23) -> 17 | R23: =SUM(Q23-C23) -> -2 | U23: 18-25 jäs | V23: =SUM(Q23) -> 17
C24: 8 | D24: yli 25 jäs | E24: 0 | F24: 0 | G24: 0 | H24: 0 | I24: 1 | J24: 1 | K24: 0 | L24: 0 | Q24: =SUM(C24:P24) -> 10 | R24: =SUM(Q24-C24) -> 2 | U24: yli 25 jäs | V24: =SUM(Q24) -> 10
B25: H | C25: 7 | D25: alle 18 jäs | E25: 0 | F25: 0 | G25: 1 | H25: -2 | I25: 1 | J25: 0 | K25: -1 | L25: 0 | Q25: =SUM(C25:P25) -> 6 | R25: =SUM(Q25-C25) -> -1 | T25: H | U25: alle 18 jäs | V25: =SUM(Q25) -> 6
C26: 18 | D26: 18-25 jäs | E26: 0 | F26: 0 | G26: -2 | H26: 3 | I26: -1 | J26: 0 | K26: -1 | L26: 1 | Q26: =SUM(C26:P26) -> 18 | R26: =SUM(Q26-C26) -> 0 | U26: 18-25 jäs | V26: =SUM(Q26) -> 18
C27: 14 | D27: yli 25 jäs | E27: 0 | F27: 0 | G27: 1 | H27: -1 | I27: 0 | J27: 0 | K27: 2 | L27: -1 | Q27: =SUM(C27:P27) -> 15 | R27: =SUM(Q27-C27) -> 1 | U27: yli 25 jäs | V27: =SUM(Q27) -> 15
B28: I | C28: 23 | D28: alle 18 jäs | E28: 0 | F28: 0 | G28: 0 | H28: -1 | I28: 0 | J28: 0 | K28: 0 | L28: 0 | Q28: =SUM(C28:P28) -> 22 | R28: =SUM(Q28-C28) -> -1 | T28: I | U28: alle 18 jäs | V28: =SUM(Q28) -> 22
C29: 15 | D29: 18-25 jäs | E29: 0 | F29: 0 | G29: 0 | H29: 1 | I29: 0 | J29: -1 | K29: 0 | L29: 0 | Q29: =SUM(C29:P29) -> 15 | R29: =SUM(Q29-C29) -> 0 | U29: 18-25 jäs | V29: =SUM(Q29) -> 15
C30: 6 | D30: yli 25 jäs | E30: 0 | F30: 0 | G30: 0 | H30: 0 | I30: 0 | J30: 1 | K30: 0 | L30: 0 | Q30: =SUM(C30:P30) -> 7 | R30: =SUM(Q30-C30) -> 1 | U30: yli 25 jäs | V30: =SUM(Q30) -> 7
B31: K | C31: 11 | D31: alle 18 jäs | E31: 0 | F31: 0 | G31: 0 | H31: 0 | I31: 0 | J31: 0 | K31: -2 | L31: 1 | Q31: =SUM(C31:P31) -> 10 | R31: =SUM(Q31-C31) -> -1 | T31: K | U31: alle 18 jäs | V31: =SUM(Q31) -> 10
C32: 12 | D32: 18-25 jäs | E32: 0 | F32: 0 | G32: 0 | H32: 0 | I32: -1 | J32: 0 | K32: 3 | L32: -2 | Q32: =SUM(C32:P32) -> 12 | R32: =SUM(Q32-C32) -> 0 | U32: 18-25 jäs | V32: =SUM(Q32) -> 12
C33: 14 | D33: yli 25 jäs | E33: 0 | F33: 0 | G33: 0 | H33: 0 | I33: 1 | J33: 0 | K33: -1 | L33: 1 | Q33: =SUM(C33:P33) -> 15 | R33: =SUM(Q33-C33) -> 1 | U33: yli 25 jäs | V33: =SUM(Q33) -> 15
B34: L | C34: 8 | D34: alle 18 jäs | E34: 2 | F34: 0 | G34: 0 | H34: 0 | I34: 0 | J34: -1 | K34: 1 | L34: 1 | Q34: =SUM(C34:P34) -> 11 | R34: =SUM(Q34-C34) -> 3 | T34: L | U34: alle 18 jäs | V34: =SUM(Q34) -> 11
C35: 14 | D35: 18-25 jäs | E35: -2 | F35: 0 | G35: 0 | H35: 1 | I35: -1 | J35: 0 | K35: -1 | L35: -1 | Q35: =SUM(C35:P35) -> 10 | R35: =SUM(Q35-C35) -> -4 | U35: 18-25 jäs | V35: =SUM(Q35) -> 10
C36: 11 | D36: yli 25 jäs | E36: 0 | F36: 0 | G36: 0 | H36: -1 | I36: 1 | J36: 0 | K36: 0 | L36: 0 | Q36: =SUM(C36:P36) -> 11 | R36: =SUM(Q36-C36) -> 0 | U36: yli 25 jäs | V36: =SUM(Q36) -> 11
B37: M | C37: 16 | D37: alle 18 jäs | E37: 0 | F37: 0 | G37: 0 | H37: 1 | I37: 0 | J37: 0 | K37: 1 | L37: 0 | Q37: =SUM(C37:P37) -> 18 | R37: =SUM(Q37-C37) -> 2 | T37: M | U37: alle 18 jäs | V37: =SUM(Q37) -> 18
C38: 15 | D38: 18-25 jäs | E38: 0 | F38: 0 | G38: 0 | H38: -1 | I38: 0 | J38: 0 | K38: -1 | L38: 1 | Q38: =SUM(C38:P38) -> 14 | R38: =SUM(Q38-C38) -> -1 | U38: 18-25 jäs | V38: =SUM(Q38) -> 14
C39: 23 | D39: yli 25 jäs | E39: 0 | F39: 0 | G39: 0 | H39: 0 | I39: 0 | J39: 0 | K39: 0 | L39: -1 | Q39: =SUM(C39:P39) -> 22 | R39: =SUM(Q39-C39) -> -1 | U39: yli 25 jäs | V39: =SUM(Q39) -> 22
B40: N | C40: 32 | D40: alle 18 jäs | E40: 0 | F40: 0 | G40: 1 | H40: 0 | I40: 0 | J40: 0 | K40: 0 | L40: 0 | Q40: =SUM(C40:P40) -> 33 | R40: =SUM(Q40-C40) -> 1 | T40: N | U40: alle 18 jäs | V40: =SUM(Q40) -> 33
C41: 21 | D41: 18-25 jäs | E41: 0 | F41: 1 | G41: -1 | H41: 0 | I41: -2 | J41: -1 | K41: 0 | L41: 0 | Q41: =SUM(C41:P41) -> 18 | R41: =SUM(Q41-C41) -> -3 | U41: 18-25 jäs | V41: =SUM(Q41) -> 18
C42: 13 | D42: yli 25 jäs | E42: 0 | F42: -1 | G42: 0 | H42: 0 | I42: 2 | J42: 1 | K42: 0 | L42: 0 | Q42: =SUM(C42:P42) -> 15 | R42: =SUM(Q42-C42) -> 2 | U42: yli 25 jäs | V42: =SUM(Q42) -> 15
B43: O | C43: 25 | D43: alle 18 jäs | E43: 0 | F43: 2 | G43: -2 | H43: -1 | I43: 0 | J43: 2 | K43: 1 | L43: 0 | Q43: =SUM(C43:P43) -> 27 | R43: =SUM(Q43-C43) -> 2 | T43: O | U43: alle 18 jäs | V43: =SUM(Q43) -> 27
C44: 19 | D44: 18-25 jäs | E44: 0 | F44: -2 | G44: 0 | H44: 1 | I44: 0 | J44: -2 | K44: -1 | L44: -1 | Q44: =SUM(C44:P44) -> 14 | R44: =SUM(Q44-C44) -> -5 | U44: 18-25 jäs | V44: =SUM(Q44) -> 14
C45: 4 | D45: yli 25 jäs | E45: 0 | F45: 0 | G45: 1 | H45: 0 | I45: 0 | J45: 0 | K45: 0 | L45: 1 | Q45: =SUM(C45:P45) -> 6 | R45: =SUM(Q45-C45) -> 2 | U45: yli 25 jäs | V45: =SUM(Q45) -> 6
B46: Koko | C46: =SUM(C4+C7+C10+C13+C16+C19+C22+C25+C28+C31+C34+C37+C40+C43) -> 243 | D46: alle 18 jäs | E46: =SUM(E4+E7+E10+E13+E16+E19+E22+E25+E28+E31+E34+E37+E40+E43) -> 3 | F46: =SUM(F4+F7+F10+F13+F16+F19+F22+F25+F28+F31+F34+F37+F40+F43) -> 3 | G46: =SUM(G4+G7+G10+G13+G16+G19+G22+G25+G28+G31+G34+G37+G40+G43) -> 4 | H46: =SUM(H4+H7+H10+H13+H16+H19+H22+H25+H28+H31+H34+H37+H40+H43) -> -4 | I46: =SUM(I4+I7+I10+I13+I16+I19+I22+I25+I28+I31+I34+I37+I40+I43) -> 0 | J46: =SUM(J4+J7+J10+J13+J16+J19+J22+J25+J28+J31+J34+J37+J40+J43) -> 2 | K46: =SUM(K4+K7+K10+K13+K16+K19+K22+K25+K28+K31+K34+K37+K40+K43) -> 3 | L46: =SUM(L4+L7+L10+L13+L16+L19+L22+L25+L28+L31+L34+L37+L40+L43) -> 2 | ... Q46: =SUM(Q4+Q7+Q10+Q13+Q16+Q19+Q22+Q25+Q28+Q31+Q34+Q37+Q40+Q43) -> 256 | R46: =SUM(Q46-C46) -> 13
B47: Suomi | C47: =SUM(C5+C8+C11+C14+C17+C20+C23+C26+C29+C32+C35+C38+C41+C44) -> 269 | D47: 18-25 jäs | E47: =SUM(E5+E8+E11+E14+E17+E20+E23+E26+E29+E32+E35+E38+E41+E44) -> -2 | F47: =SUM(F5+F8+F11+F14+F17+F20+F23+F26+F29+F32+F35+F38+F41+F44) -> -1 | G47: =SUM(G5+G8+G11+G14+G17+G20+G23+G26+G29+G32+G35+G38+G41+G44) -> -8 | H47: =SUM(H5+H8+H11+H14+H17+H20+H23+H26+H29+H32+H35+H38+H41+H44) -> 2 | I47: =SUM(I5+I8+I11+I14+I17+I20+I23+I26+I29+I32+I35+I38+I41+I44) -> -8 | J47: =SUM(J5+J8+J11+J14+J17+J20+J23+J26+J29+J32+J35+J38+J41+J44) -> -10 | K47: =SUM(K5+K8+K11+K14+K17+K20+K23+K26+K29+K32+K35+K38+K41+K44) -> -4 | L47: =SUM(L5+L8+L11+L14+L17+L20+L23+L26+L29+L32+L35+L38+L41+L44) -> -3 | ... Q47: =SUM(Q5+Q8+Q11+Q14+Q17+Q20+Q23+Q26+Q29+Q32+Q35+Q38+Q41+Q44) -> 235 | R47: =SUM(Q47-C47) -> -34
C48: =SUM(C6+C9+C12+C15+C18+C21+C24+C27+C30+C33+C36+C39+C42+C45) -> 209 | D48: yli 25 jäs | E48: =SUM(E6+E9+E12+E15+E18+E21+E24+E27+E30+E33+E36+E39+E42+E45) -> -1 | F48: =SUM(F6+F9+F12+F15+F18+F21+F24+F27+F30+F33+F36+F39+F42+F45) -> -2 | G48: =SUM(G6+G9+G12+G15+G18+G21+G24+G27+G30+G33+G36+G39+G42+G45) -> 2 | H48: =SUM(H6+H9+H12+H15+H18+H21+H24+H27+H30+H33+H36+H39+H42+H45) -> 2 | I48: =SUM(I6+I9+I12+I15+I18+I21+I24+I27+I30+I33+I36+I39+I42+I45) -> 8 | J48: =SUM(J6+J9+J12+J15+J18+J21+J24+J27+J30+J33+J36+J39+J42+J45) -> 5 | K48: =SUM(K6+K9+K12+K15+K18+K21+K24+K27+K30+K33+K36+K39+K42+K45) -> 1 | L48: =SUM(L6+L9+L12+L15+L18+L21+L24+L27+L30+L33+L36+L39+L42+L45) -> 1 | ... Q48: =SUM(Q6+Q9+Q12+Q15+Q18+Q21+Q24+Q27+Q30+Q33+Q36+Q39+Q42+Q45) -> 225 | R48: =SUM(Q48-C48) -> 16
B51: Klubien koot jäsenmäärän mukaan:
B53: =SUM(C53/C56) -> 0.3370319 | C53: =SUM(C46) -> 243 | D53: alle 18 jäs | E53: =SUM(F53/F56) -> 0.3575419 | F53: =SUM(Q46) -> 256
B54: =SUM(C54/C56) -> 0.37309293 | C54: =SUM(C47) -> 269 | D54: 18-25 jäs | E54: =SUM(F54/F56) -> 0.32821229 | F54: =SUM(Q47) -> 235
B55: =SUM(C55/C56) -> 0.28987517 | C55: =SUM(C48) -> 209 | D55: yli 25 jäs | E55: =SUM(F55/F56) -> 0.31424581 | F55: =SUM(Q48) -> 225
C56: =SUM(C53:C55) -> 721 | F56: =SUM(F53:F55) -> 716
B62: Klubien keskimääräinen jäsenmäärä 1/2026:
C63: Piiri | D63: jäseniä ka
C64: A | D64: 24
C65: B | D65: 19
C66: C | D66: 23
C67: D | D67: 23
C68: E | D68: 21
C69: F | D69: 23
C70: G | D70: 19
C71: H | D71: 24
C72: I | D72: 19
C73: K | D73: 23
C74: L | D74: 23
C75: M | D75: 23
... C77: O | D77: 18

Sheet Pienet ja isot
B1: Pienimpien ja suurimpien klubien seuranta piireittäin, kausi 2025-2026
C2: 45838
B3: Piiri | E3: 8 | F3: 9 | G3: 10 | H3: 11 | I3: 12 | J3: 1 | Q3: Tilanne nyt | R3: Muutos
B4: A | C4: 5 | D4: 10 tai alle | E4: 0 | F4: 0 | G4: 0 | H4: 0 | I4: 0 | J4: 0 | K4: 0 | Q4: =SUM(C4:P4) -> 5 | R4: =SUM(Q4-C4) -> 0
C5: 2 | D5: 40 tai yli | E5: -1 | F5: 0 | G5: 0 | H5: 0 | I5: 0 | J5: 0 | K5: 0 | Q5: =SUM(C5:P5) -> 1 | R5: =SUM(Q5-C5) -> -1
B6: B | C6: 7 | D6: 10 tai alle | E6: 0 | F6: 1 | G6: 0 | H6: 0 | I6: 0 | J6: -1 | K6: 0 | Q6: =SUM(C6:P6) -> 7 | R6: =SUM(Q6-C6) -> 0
C7: 0 | D7: 40 tai yli | E7: 0 | F7: 0 | G7: 0 | H7: 0 | I7: 0 | J7: 0 | K7: 0 | Q7: =SUM(C7:P7) -> 0 | R7: =SUM(Q7-C7) -> 0
B8: C | C8: 3 | D8: 10 tai alle | E8: 0 | F8: 0 | G8: -1 | H8: 1 | I8: 0 | J8: 0 | K8: 0 | Q8: =SUM(C8:P8) -> 3 | R8: =SUM(Q8-C8) -> 0
C9: 4 | D9: 40 tai yli | E9: 0 | F9: 0 | G9: 0 | H9: 0 | I9: 0 | J9: 0 | K9: 0 | Q9: =SUM(C9:P9) -> 4 | R9: =SUM(Q9-C9) -> 0
B10: D | C10: 4 | D10: 10 tai alle | E10: 0 | F10: 0 | G10: 0 | H10: 0 | I10: 0 | J10: 0 | K10: 0 | Q10: =SUM(C10:P10) -> 4 | R10: =SUM(Q10-C10) -> 0
C11: 5 | D11: 40 tai yli | E11: 0 | F11: 0 | G11: 0 | H11: 0 | I11: 0 | J11: 0 | K11: 0 | Q11: =SUM(C11:P11) -> 5 | R11: =SUM(Q11-C11) -> 0
B12: E | C12: 4 | D12: 10 tai alle | E12: 0 | F12: 0 | G12: 0 | H12: 0 | I12: 0 | J12: 0 | K12: 1 | Q12: =SUM(C12:P12) -> 5 | R12: =SUM(Q12-C12) -> 1
C13: 1 | D13: 40 tai yli | E13: 0 | F13: 0 | G13: 0 | H13: 0 | I13: 0 | J13: 0 | K13: 0 | Q13: =SUM(C13:P13) -> 1 | R13: =SUM(Q13-C13) -> 0
B14: F | C14: 2 | D14: 10 tai alle | E14: 0 | F14: 0 | G14: 0 | H14: 0 | I14: 0 | J14: 0 | K14: 0 | Q14: =SUM(C14:P14) -> 2 | R14: =SUM(Q14-C14) -> 0
C15: 0 | D15: 40 tai yli | E15: 0 | F15: 0 | G15: 0 | H15: 0 | I15: 0 | J15: 1 | K15: 0 | Q15: =SUM(C15:P15) -> 1 | R15: =SUM(Q15-C15) -> 1
B16: G | C16: 7 | D16: 10 tai alle | E16: 0 | F16: 0 | G16: -4 | H16: 5 | I16: 0 | J16: 0 | K16: 0 | Q16: =SUM(C16:P16) -> 8 | R16: =SUM(Q16-C16) -> 1
C17: 0 | D17: 40 tai yli | E17: 0 | F17: 0 | G17: 0 | H17: 0 | I17: 0 | J17: 0 | K17: 0 | Q17: =SUM(C17:P17) -> 0 | R17: =SUM(Q17-C17) -> 0
B18: H | C18: 1 | D18: 10 tai alle | E18: 0 | F18: 0 | G18: 0 | H18: 0 | I18: 0 | J18: 0 | K18: 0 | Q18: =SUM(C18:P18) -> 1 | R18: =SUM(Q18-C18) -> 0
C19: 1 | D19: 40 tai yli | E19: 0 | F19: 0 | G19: 0 | H19: 0 | I19: 0 | J19: 0 | K19: 0 | Q19: =SUM(C19:P19) -> 1 | R19: =SUM(Q19-C19) -> 0
B20: I | C20: 2 | D20: 10 tai alle | E20: 0 | F20: 0 | G20: 0 | H20: 0 | I20: 0 | J20: 0 | K20: 0 | Q20: =SUM(C20:P20) -> 2 | R20: =SUM(Q20-C20) -> 0
C21: 0 | D21: 40 tai yli | E21: 0 | F21: 0 | G21: 0 | H21: 0 | I21: 0 | J21: 0 | K21: 0 | Q21: =SUM(C21:P21) -> 0 | R21: =SUM(Q21-C21) -> 0
B22: K | C22: 1 | D22: 10 tai alle | E22: -1 | F22: 0 | G22: 1 | H22: 0 | I22: 0 | J22: 0 | K22: 0 | Q22: =SUM(C22:P22) -> 1 | R22: =SUM(Q22-C22) -> 0
C23: 0 | D23: 40 tai yli | E23: 0 | F23: 0 | G23: 0 | H23: 0 | I23: 0 | J23: 0 | K23: 0 | Q23: =SUM(C23:P23) -> 0 | R23: =SUM(Q23-C23) -> 0
B24: L | C24: 1 | D24: 10 tai alle | E24: 0 | F24: 0 | G24: 0 | H24: 1 | I24: -1 | J24: 0 | K24: 0 | Q24: =SUM(C24:P24) -> 1 | R24: =SUM(Q24-C24) -> 0
C25: 1 | D25: 40 tai yli | E25: 0 | F25: 1 | G25: -1 | H25: 1 | I25: 0 | J25: -1 | K25: 0 | Q25: =SUM(C25:P25) -> 1 | R25: =SUM(Q25-C25) -> 0
B26: M | C26: 4 | D26: 10 tai alle | E26: 0 | F26: 0 | G26: 0 | H26: 0 | I26: 0 | J26: 0 | K26: 0 | Q26: =SUM(C26:P26) -> 4 | R26: =SUM(Q26-C26) -> 0
C27: 2 | D27: 40 tai yli | E27: 0 | F27: 0 | G27: 0 | H27: 0 | I27: 0 | J27: 0 | K27: 0 | Q27: =SUM(C27:P27) -> 2 | R27: =SUM(Q27-C27) -> 0
B28: N | C28: 8 | D28: 10 tai alle | E28: 0 | F28: -5 | G28: 6 | H28: 0 | I28: -1 | J28: 0 | K28: 0 | Q28: =SUM(C28:P28) -> 8 | R28: =SUM(Q28-C28) -> 0
C29: 2 | D29: 40 tai yli | E29: 0 | F29: 0 | G29: -1 | H29: 1 | I29: -1 | J29: 0 | K29: 0 | Q29: =SUM(C29:P29) -> 1 | R29: =SUM(Q29-C29) -> -1
B30: O | C30: 3 | D30: 10 tai alle | E30: -1 | F30: 0 | G30: 0 | H30: 0 | I30: 0 | J30: 0 | K30: 0 | Q30: =SUM(C30:P30) -> 2 | R30: =SUM(Q30-C30) -> -1
C31: 0 | D31: 40 tai yli | E31: 0 | F31: 0 | G31: 0 | H31: 0 | I31: 0 | J31: 0 | K31: 0 | Q31: =SUM(C31:P31) -> 0 | R31: =SUM(Q31-C31) -> 0
B32: Koko | C32: =SUM(C4+C6+C8+C10+C12+C14+C16+C18+C20+C22+C24+C26+C28+C30) -> 52 | D32: 10 tai alle | E32: =SUM(E4+E6+E8+E10+E12+E14+E16+E18+E20+E22+E24+E26+E28+E30) -> -2 | F32: 0 | G32: =SUM(G4+G6+G8+G10+G12+G14+G16+G18+G20+G22+G24+G26+G28+G30) -> 2 | H32: =SUM(H4+H6+H8+H10+H12+H14+H16+H18+H20+H22+H24+H26+H28+H30) -> 7 | I32: =SUM(I4+I6+I8+I10+I12+I14+I16+I18+I20+I22+I24+I26+I28+I30) -> -2 | J32: =SUM(J4+J6+J8+J10+J12+J14+J16+J18+J20+J22+J24+J26+J28+J30) -> -1 | K32: =SUM(K4+K6+K8+K10+K12+K14+K16+K18+K20+K22+K24+K26+K28+K30) -> 1 | L32: =SUM(L4+L6+L8+L10+L12+L14+L16+L18+L20+L22+L24+L26+L28+L30) -> 0 | M32: =SUM(M4+M6+M8+M10+M12+M14+M16+M18+M20+M22+M24+M26+M28+M30) -> 0 | N32: =SUM(N4+N6+N8+N10+N12+N14+N16+N18+N20+N22+N24+N26+N28+N30) -> 0 | ... Q32: =SUM(Q4+Q6+Q8+Q10+Q12+Q14+Q16+Q18+Q20+Q22+Q24+Q26+Q28+Q30) -> 53 | R32: =SUM(Q32-C32) -> 1
B33: Suomi | C33: =SUM(C5+C7+C9+C11+C13+C15+C17+C19+C21+C23+C25+C27+C29+C31) -> 18 | D33: 40 tai yli | E33: =SUM(E5+E7+E9+E11+E13+E15+E17+E19+E21+E23+E25+E27+E29+E31) -> -1 | F33: 0 | G33: =SUM(G5+G7+G9+G11+G13+G15+G17+G19+G21+G23+G25+G27+G29+G31) -> -2 | H33: =SUM(H5+H7+H9+H11+H13+H15+H17+H19+H21+H23+H25+H27+H29+H31) -> 2 | I33: =SUM(I5+I7+I9+I11+I13+I15+I17+I19+I21+I23+I25+I27+I29+I31) -> -1 | J33: =SUM(J5+J7+J9+J11+J13+J15+J17+J19+J21+J23+J25+J27+J29+J31) -> 0 | K33: =SUM(K5+K7+K9+K11+K13+K15+K17+K19+K21+K23+K25+K27+K29+K31) -> 0 | L33: =SUM(L5+L7+L9+L11+L13+L15+L17+L19+L21+L23+L25+L27+L29+L31) -> 0 | M33: =SUM(M5+M7+M9+M11+M13+M15+M17+M19+M21+M23+M25+M27+M29+M31) -> 0 | N33: =SUM(N5+N7+N9+N11+N13+N15+N17+N19+N21+N23+N25+N27+N29+N31) -> 0 | ... Q33: =SUM(Q5+Q7+Q9+Q11+Q13+Q15+Q17+Q19+Q21+Q23+Q25+Q27+Q29+Q31) -> 17 | R33: =SUM(Q33-C33) -> -1
B36: Klubien koot jäsenmäärän mukaan:
B38: =SUM(C38/C40) -> 0.74285714 | C38: =SUM(C32) -> 52 | D38: 10 tai alle | E38: =SUM(F38/F40) -> 0.75714286 | F38: =SUM(Q32) -> 53
B39: =SUM(C39/C40) -> 0.25714286 | C39: =SUM(C33) -> 18 | D39: 40 tai yli | E39: =SUM(F39/F40) -> 0.24285714 | F39: =SUM(Q33) -> 17
C40: =SUM(C38:C39) -> 70 | F40: =SUM(F38:F39) -> 70
